BEGIN:VCALENDAR
VERSION:2.0
PRODID:-//Clussais la Pommeraie - ECPv5.1.4//NONSGML v1.0//EN
CALSCALE:GREGORIAN
METHOD:PUBLISH
X-WR-CALNAME:Clussais la Pommeraie
X-ORIGINAL-URL:https://www.clussaislapommeraie79.org
X-WR-CALDESC:Évènements pour Clussais la Pommeraie
BEGIN:VTIMEZONE
TZID:Europe/Paris
BEGIN:DAYLIGHT
TZOFFSETFROM:+0100
TZOFFSETTO:+0200
TZNAME:CEST
DTSTART:20230326T010000
END:DAYLIGHT
BEGIN:STANDARD
TZOFFSETFROM:+0200
TZOFFSETTO:+0100
TZNAME:CET
DTSTART:20231029T010000
END:STANDARD
END:VTIMEZONE
BEGIN:VEVENT
DTSTART;TZID=Europe/Paris:20231014T193000
DTEND;TZID=Europe/Paris:20231014T230000
DTSTAMP:20260423T022238
CREATED:20230808T081622Z
LAST-MODIFIED:20230808T081925Z
UID:3196-1697311800-1697324400@www.clussaislapommeraie79.org
SUMMARY:Repas organisé par le GIASC
DESCRIPTION:Le 14 octobre 2023 \nà 19h30 \nChoucroute \nou Jambon à l’os / Gratin dauphinois \n
URL:https://www.clussaislapommeraie79.org/evenement/repas-organise-par-le-giasc/
LOCATION:Salle des fêtes
ATTACH;FMTTYPE=image/jpeg:https://www.clussaislapommeraie79.org/wp-content/uploads/2023/08/giasc.jpg
END:VEVENT
BEGIN:VEVENT
DTSTART;VALUE=DATE:20231019
DTEND;VALUE=DATE:20231028
DTSTAMP:20260423T022238
CREATED:20231017T125650Z
LAST-MODIFIED:20231017T125650Z
UID:3240-1697673600-1698451199@www.clussaislapommeraie79.org
SUMMARY:Collecte  des encombrants
DESCRIPTION:La communauté de communes Mellois en Poitou organise une collecte d’encombrants le \n7 novembre 2023 \nsur la commune de Clussais la Pommeraie \nLes personnes intéressées par ce ramassage sont priées de s’inscrire à la communauté de communes \n au 05 49 27 56 79 Inscription du 19 au 27 octobre. \nAu préalable\, il est essentiel de savoir ce que vous déposez car cela vous sera demandé lors des inscriptions afin de faciliter l’organisation des tournées. \n(PAS D’INSCRIPTIONS EN MAIRIE). \nIl est rappelé que la collecte des encombrants concerne les déchets devant être déposés en déchèterie et ne pouvant être transportés dans une voiture. \n
URL:https://www.clussaislapommeraie79.org/evenement/collecte-des-encombrants/
ATTACH;FMTTYPE=image/jpeg:https://www.clussaislapommeraie79.org/wp-content/uploads/2022/06/logo-MP-coul-1.jpg
END:VEVENT
BEGIN:VEVENT
DTSTART;VALUE=DATE:20231025
DTEND;VALUE=DATE:20231026
DTSTAMP:20260423T022238
CREATED:20231017T124455Z
LAST-MODIFIED:20231017T124455Z
UID:3236-1698192000-1698278399@www.clussaislapommeraie79.org
SUMMARY:AVIS DE MISE À JOUR  DU PLAN CADASTRAL
DESCRIPTION:La mairie de Clussais La Pommeraie informe les propriétaires fonciers de la commune que M. MOUTSILA MALOUMBY Dhaiche\, géomètre du cadastre\, sera de passage à Clussais La Pommeraie le 25 octobre 2023 afin de procéder aux mises à jour annuelles de la documentation cadastrale et à la tenue à jour du plan cadastral. \nDans ce cadre\, il sera amené à se déplacer sur l’ensemble du territoire communal et à prendre contact\, si besoin\, avec les propriétaires fonciers de Clussais La Pommeraie. \n
URL:https://www.clussaislapommeraie79.org/evenement/avis-de-mise-a-jour-du-plan-cadastral/
LOCATION:Commune de Clussais La Pommeraie
ATTACH;FMTTYPE=image/jpeg:https://www.clussaislapommeraie79.org/wp-content/uploads/2023/06/DJI_0184.jpg
END:VEVENT
BEGIN:VEVENT
DTSTART;VALUE=DATE:20231027
DTEND;VALUE=DATE:20231028
DTSTAMP:20260423T022238
CREATED:20231017T120212Z
LAST-MODIFIED:20231017T120212Z
UID:3218-1698364800-1698451199@www.clussaislapommeraie79.org
SUMMARY:Fermeture du secrétariat
DESCRIPTION:
URL:https://www.clussaislapommeraie79.org/evenement/fermeture-du-secretariat/
LOCATION:Mairie
ATTACH;FMTTYPE=image/png:https://www.clussaislapommeraie79.org/wp-content/uploads/2023/10/bureau-fermé.png
END:VEVENT
BEGIN:VEVENT
DTSTART;TZID=Europe/Paris:20231028T150000
DTEND;TZID=Europe/Paris:20231028T200000
DTSTAMP:20260423T022238
CREATED:20231017T123338Z
LAST-MODIFIED:20231017T123623Z
UID:3231-1698505200-1698523200@www.clussaislapommeraie79.org
SUMMARY:APE MAIRÉ-CLUSSAIS
DESCRIPTION:L’ APE de Mairé- Clussais organise le 28 octobre sa fête d’hALLOWEEN \nsalle des fêtes de Mairé-Levescault \n
URL:https://www.clussaislapommeraie79.org/evenement/ape-maire-clussais/
LOCATION:Mairé-Levescault
ATTACH;FMTTYPE=image/jpeg:https://www.clussaislapommeraie79.org/wp-content/uploads/2023/10/387133209_341033101767690_180786736543374583_n.jpg
END:VEVENT
END:VCALENDAR