BEGIN:VCALENDAR
VERSION:2.0
PRODID:-//Clussais la Pommeraie - ECPv5.1.4//NONSGML v1.0//EN
CALSCALE:GREGORIAN
METHOD:PUBLISH
X-WR-CALNAME:Clussais la Pommeraie
X-ORIGINAL-URL:https://www.clussaislapommeraie79.org
X-WR-CALDESC:Évènements pour Clussais la Pommeraie
BEGIN:VTIMEZONE
TZID:Europe/Paris
BEGIN:DAYLIGHT
TZOFFSETFROM:+0100
TZOFFSETTO:+0200
TZNAME:CEST
DTSTART:20230326T010000
END:DAYLIGHT
BEGIN:STANDARD
TZOFFSETFROM:+0200
TZOFFSETTO:+0100
TZNAME:CET
DTSTART:20231029T010000
END:STANDARD
END:VTIMEZONE
BEGIN:VEVENT
DTSTART;TZID=Europe/Paris:20231111T103000
DTEND;TZID=Europe/Paris:20231111T123000
DTSTAMP:20260423T034811
CREATED:20231017T120602Z
LAST-MODIFIED:20231017T121015Z
UID:3221-1699698600-1699705800@www.clussaislapommeraie79.org
SUMMARY:CÉRÉMONIE DU 11 NOVEMBRE
DESCRIPTION:Sonnerie des cloches \n 10h45 Rassemblement au monument  \naux Morts de Clussais \n Piquet d’honneur par un détachement en armes  \nde l’ ENSOA de Saint–Maixent-L’École \n——— \nLa cérémonie sera suivie d’un vin d’honneur\,  \noffert par la municipalité à la salle des fêtes. \nComptant sur votre participation citoyenne \n
URL:https://www.clussaislapommeraie79.org/evenement/ceremonie-du-11-novembre/
LOCATION:Monument aux Morts -Clussais
ATTACH;FMTTYPE=image/jpeg:https://www.clussaislapommeraie79.org/wp-content/uploads/2023/10/Sans-titre.jpg
END:VEVENT
BEGIN:VEVENT
DTSTART;TZID=Europe/Paris:20231114T203000
DTEND;TZID=Europe/Paris:20231114T223000
DTSTAMP:20260423T034811
CREATED:20231017T121418Z
LAST-MODIFIED:20231017T121418Z
UID:3224-1699993800-1700001000@www.clussaislapommeraie79.org
SUMMARY:Réunion du conseil Municipal
DESCRIPTION:Le conseil municipal se réunira le \nmardi 14 novembre 2023 à 20h30 \nà la mairie \n
URL:https://www.clussaislapommeraie79.org/evenement/reunion-du-conseil-municipal/
LOCATION:Mairie
END:VEVENT
BEGIN:VEVENT
DTSTART;VALUE=DATE:20231121
DTEND;VALUE=DATE:20231122
DTSTAMP:20260423T034811
CREATED:20231114T131436Z
LAST-MODIFIED:20231114T131436Z
UID:3247-1700524800-1700611199@www.clussaislapommeraie79.org
SUMMARY:Fermeture du secrétariat
DESCRIPTION:Le secrétariat de mairie sera fermé exceptionnellement. \nEn cas d’urgence s’adresser au Maire ou aux Adjoints\, \nou par mail mairie-clussais@wanadoo.fr \n
URL:https://www.clussaislapommeraie79.org/evenement/fermeture-du-secretariat-2/
LOCATION:Mairie
END:VEVENT
BEGIN:VEVENT
DTSTART;VALUE=DATE:20231123
DTEND;VALUE=DATE:20231124
DTSTAMP:20260423T034811
CREATED:20231114T131536Z
LAST-MODIFIED:20231114T131536Z
UID:3249-1700697600-1700783999@www.clussaislapommeraie79.org
SUMMARY:Fermeture du secrétariat
DESCRIPTION:Le secrétariat de mairie sera fermé exceptionnellement. \nEn cas d’urgence s’adresser au Maire ou aux Adjoints\, \nou par mail mairie-clussais@wanadoo.fr \n
URL:https://www.clussaislapommeraie79.org/evenement/fermeture-du-secretariat-3/
LOCATION:Mairie
END:VEVENT
BEGIN:VEVENT
DTSTART;TZID=Europe/Paris:20231125T143000
DTEND;TZID=Europe/Paris:20231125T190000
DTSTAMP:20260423T034811
CREATED:20231107T090118Z
LAST-MODIFIED:20231107T090118Z
UID:3243-1700922600-1700938800@www.clussaislapommeraie79.org
SUMMARY:CONCOURS DE BELOTE
DESCRIPTION:\n\nCONCOURS DE BELOTE \n\n– – – – – – – \n\nOrganisé par la SIP- LE REVEIL \nSalle des fêtes de Clussais La Pommeraie \nsamedi 25 novembre à partir de 14h30 \n\n\n– – – – – – – \n\nOrganisé par la SIP- LE REVEIL \nSalle des fêtes de Clussais La Pommeraie \nsamedi 25 novembre à partir de 14h30 \n\n
URL:https://www.clussaislapommeraie79.org/evenement/concours-de-belote/
LOCATION:Salle des fêtes
ATTACH;FMTTYPE=image/jpeg:https://www.clussaislapommeraie79.org/wp-content/uploads/2023/11/Belote-SIP.jpg
END:VEVENT
END:VCALENDAR