BEGIN:VCALENDAR
VERSION:2.0
PRODID:-//Clussais la Pommeraie - ECPv5.1.4//NONSGML v1.0//EN
CALSCALE:GREGORIAN
METHOD:PUBLISH
X-WR-CALNAME:Clussais la Pommeraie
X-ORIGINAL-URL:https://www.clussaislapommeraie79.org
X-WR-CALDESC:Évènements pour Clussais la Pommeraie
BEGIN:VTIMEZONE
TZID:Europe/Paris
BEGIN:DAYLIGHT
TZOFFSETFROM:+0100
TZOFFSETTO:+0200
TZNAME:CEST
DTSTART:20240331T010000
END:DAYLIGHT
BEGIN:STANDARD
TZOFFSETFROM:+0200
TZOFFSETTO:+0100
TZNAME:CET
DTSTART:20241027T010000
END:STANDARD
END:VTIMEZONE
BEGIN:VEVENT
DTSTART;TZID=Europe/Paris:20240528T200000
DTEND;TZID=Europe/Paris:20240528T223000
DTSTAMP:20260423T140759
CREATED:20240528T153750Z
LAST-MODIFIED:20240528T153750Z
UID:3612-1716926400-1716935400@www.clussaislapommeraie79.org
SUMMARY:Réunion du conseil municipal
DESCRIPTION:
URL:https://www.clussaislapommeraie79.org/evenement/reunion-du-conseil-municipal-3/
LOCATION:Mairie
END:VEVENT
BEGIN:VEVENT
DTSTART;TZID=Europe/Paris:20240609T080000
DTEND;TZID=Europe/Paris:20240609T180000
DTSTAMP:20260423T140759
CREATED:20240607T095203Z
LAST-MODIFIED:20240607T095611Z
UID:3633-1717920000-1717956000@www.clussaislapommeraie79.org
SUMMARY:Election des représentants au Parlement Européen
DESCRIPTION:Election des représentants au Parlement Européen \n9 juin 2024 de 8h à 18h à la Mairie \n
URL:https://www.clussaislapommeraie79.org/evenement/election-des-representants-au-parlement-europeen/
LOCATION:Mairie
END:VEVENT
BEGIN:VEVENT
DTSTART;TZID=Europe/Paris:20240614T170000
DTEND;TZID=Europe/Paris:20240614T230000
DTSTAMP:20260423T140759
CREATED:20240607T101943Z
LAST-MODIFIED:20240607T101943Z
UID:3643-1718384400-1718406000@www.clussaislapommeraie79.org
SUMMARY:Fête des Écoles
DESCRIPTION:Fête des écoles \nVendredi 14 juin 2024 \n
URL:https://www.clussaislapommeraie79.org/evenement/fete-des-ecoles/
LOCATION:Terrain de foot -La Pommeraie
ATTACH;FMTTYPE=image/jpeg:https://www.clussaislapommeraie79.org/wp-content/uploads/2024/06/scan_2024052711312450.jpg
END:VEVENT
BEGIN:VEVENT
DTSTART;TZID=Europe/Paris:20240622T140000
DTEND;TZID=Europe/Paris:20240622T233000
DTSTAMP:20260423T140759
CREATED:20240607T100759Z
LAST-MODIFIED:20240607T101425Z
UID:3638-1719064800-1719099000@www.clussaislapommeraie79.org
SUMMARY:Fête de la musique
DESCRIPTION:Marché de créateurs et producteurs locaux à partir de 14h \nConcours de pétanque à 15h \nConcert à 20h30 \nBuvette et restauration sur place \n
URL:https://www.clussaislapommeraie79.org/evenement/fete-de-la-musique/
LOCATION:Terrain de foot -La Pommeraie
ATTACH;FMTTYPE=image/jpeg:https://www.clussaislapommeraie79.org/wp-content/uploads/2024/06/scan.jpg
END:VEVENT
BEGIN:VEVENT
DTSTART;TZID=Europe/Paris:20240625T200000
DTEND;TZID=Europe/Paris:20240625T223000
DTSTAMP:20260423T140759
CREATED:20240607T102317Z
LAST-MODIFIED:20240607T102317Z
UID:3647-1719345600-1719354600@www.clussaislapommeraie79.org
SUMMARY:Réunion du Conseil Municipal
DESCRIPTION:
URL:https://www.clussaislapommeraie79.org/evenement/reunion-du-conseil-municipal-5/
LOCATION:Mairie
END:VEVENT
BEGIN:VEVENT
DTSTART;TZID=Europe/Paris:20240629T143000
DTEND;TZID=Europe/Paris:20240629T143000
DTSTAMP:20260423T140759
CREATED:20240607T100230Z
LAST-MODIFIED:20240607T101518Z
UID:3635-1719671400-1719671400@www.clussaislapommeraie79.org
SUMMARY:Sortie nature Papillons et Libellules du Marais de Clussais La Pommeraie
DESCRIPTION:Sortie nature Papillons et Libellules du Marais de Clussais La Pommeraie \nSamedi 29 juin 2024 à 14h30 \nParking de l’église à Clussais \n
URL:https://www.clussaislapommeraie79.org/evenement/sortie-nature-papillons-et-libellules-du-marais-de-clussais-la-pommeraie/
LOCATION:Église de Clussais
ATTACH;FMTTYPE=image/jpeg:https://www.clussaislapommeraie79.org/wp-content/uploads/2024/06/2024_06_29_clussais_79.jpg
END:VEVENT
END:VCALENDAR