BEGIN:VCALENDAR
VERSION:2.0
PRODID:-//Clussais la Pommeraie - ECPv5.1.4//NONSGML v1.0//EN
CALSCALE:GREGORIAN
METHOD:PUBLISH
X-WR-CALNAME:Clussais la Pommeraie
X-ORIGINAL-URL:https://www.clussaislapommeraie79.org
X-WR-CALDESC:Évènements pour Clussais la Pommeraie
BEGIN:VTIMEZONE
TZID:Europe/Paris
BEGIN:DAYLIGHT
TZOFFSETFROM:+0100
TZOFFSETTO:+0200
TZNAME:CEST
DTSTART:20250330T010000
END:DAYLIGHT
BEGIN:STANDARD
TZOFFSETFROM:+0200
TZOFFSETTO:+0100
TZNAME:CET
DTSTART:20251026T010000
END:STANDARD
END:VTIMEZONE
BEGIN:VEVENT
DTSTART;TZID=Europe/Paris:20250527T200000
DTEND;TZID=Europe/Paris:20250527T230000
DTSTAMP:20260423T185029
CREATED:20250520T100925Z
LAST-MODIFIED:20250520T100925Z
UID:3916-1748376000-1748386800@www.clussaislapommeraie79.org
SUMMARY:Réunion du conseil municipal
DESCRIPTION:
URL:https://www.clussaislapommeraie79.org/evenement/reunion-du-conseil-municipal-14/
LOCATION:Mairie
END:VEVENT
BEGIN:VEVENT
DTSTART;TZID=Europe/Paris:20250614T143000
DTEND;TZID=Europe/Paris:20250614T200000
DTSTAMP:20260423T185029
CREATED:20250612T085202Z
LAST-MODIFIED:20250612T085202Z
UID:3935-1749911400-1749931200@www.clussaislapommeraie79.org
SUMMARY:Loto exceptionnel
DESCRIPTION:Samedi 14 juin à partir de 14h30 \nStade de La Pommeraie \n
URL:https://www.clussaislapommeraie79.org/evenement/loto-exceptionnel/
LOCATION:Terrain de foot -La Pommeraie
ATTACH;FMTTYPE=image/jpeg:https://www.clussaislapommeraie79.org/wp-content/uploads/2025/06/496937032_122149874078397099_7632716718437374367_n.jpg
END:VEVENT
BEGIN:VEVENT
DTSTART;TZID=Europe/Paris:20250621T090000
DTEND;TZID=Europe/Paris:20250621T120000
DTSTAMP:20260423T185029
CREATED:20250612T084337Z
LAST-MODIFIED:20250619T102102Z
UID:3930-1750496400-1750507200@www.clussaislapommeraie79.org
SUMMARY:Sortie nature Papillons et Libellules du Marais de Clussais La Pommeraie
DESCRIPTION:Sortie nature Papillons et Libellules du Marais de Clussais La Pommeraie \nSamedi 21 juin 2025 à 9h au lieu de 14h30 en raison des fortes chaleurs annoncées \nContacter Sabrina MAIANO pour voir l’évolution de la situation \nParking de l’église à Clussais \n
URL:https://www.clussaislapommeraie79.org/evenement/sortie-nature-papillons-et-libellules-du-marais-de-clussais-la-pommeraie-2/
LOCATION:Église de Clussais
ATTACH;FMTTYPE=image/jpeg:https://www.clussaislapommeraie79.org/wp-content/uploads/2024/06/2025_06_21_clussais_79.jpg
END:VEVENT
BEGIN:VEVENT
DTSTART;TZID=Europe/Paris:20250621T143000
DTEND;TZID=Europe/Paris:20250621T233000
DTSTAMP:20260423T185029
CREATED:20250612T084918Z
LAST-MODIFIED:20250612T084918Z
UID:3932-1750516200-1750548600@www.clussaislapommeraie79.org
SUMMARY:Fête de la musique
DESCRIPTION:Tournoi des 3 étoiles à 15h \nMarché de créateurs et producteurs locaux à partir de 16h \nConcerts à partir de 19h30 \nBuvette et restauration sur place \n
URL:https://www.clussaislapommeraie79.org/evenement/fete-de-la-musique-2/
LOCATION:Terrain de foot -La Pommeraie
ATTACH;FMTTYPE=image/jpeg:https://www.clussaislapommeraie79.org/wp-content/uploads/2025/06/493185167_122152424312397099_1647934116009045433_n.jpg
END:VEVENT
BEGIN:VEVENT
DTSTART;TZID=Europe/Paris:20250624T200000
DTEND;TZID=Europe/Paris:20250624T230000
DTSTAMP:20260423T185029
CREATED:20250617T131644Z
LAST-MODIFIED:20250617T131644Z
UID:3949-1750795200-1750806000@www.clussaislapommeraie79.org
SUMMARY:Réunion du Conseil Municipal
DESCRIPTION:
URL:https://www.clussaislapommeraie79.org/evenement/reunion-du-conseil-municipal-15/
LOCATION:Mairie
END:VEVENT
BEGIN:VEVENT
DTSTART;TZID=Europe/Paris:20250628T150000
DTEND;TZID=Europe/Paris:20250628T230000
DTSTAMP:20260423T185029
CREATED:20250613T092843Z
LAST-MODIFIED:20250613T092843Z
UID:3942-1751122800-1751151600@www.clussaislapommeraie79.org
SUMMARY:Fête des écoles
DESCRIPTION:Spectacle des enfants à 15h. \n
URL:https://www.clussaislapommeraie79.org/evenement/fete-des-ecoles-2/
LOCATION:Terrain de foot -La Pommeraie
ATTACH;FMTTYPE=image/jpeg:https://www.clussaislapommeraie79.org/wp-content/uploads/2025/06/Fête-de-lécole.jpg
END:VEVENT
END:VCALENDAR