BEGIN:VCALENDAR
VERSION:2.0
PRODID:-//Clussais la Pommeraie - ECPv5.1.4//NONSGML v1.0//EN
CALSCALE:GREGORIAN
METHOD:PUBLISH
X-WR-CALNAME:Clussais la Pommeraie
X-ORIGINAL-URL:https://www.clussaislapommeraie79.org
X-WR-CALDESC:Évènements pour Clussais la Pommeraie
BEGIN:VTIMEZONE
TZID:Europe/Paris
BEGIN:DAYLIGHT
TZOFFSETFROM:+0100
TZOFFSETTO:+0200
TZNAME:CEST
DTSTART:20260329T010000
END:DAYLIGHT
BEGIN:STANDARD
TZOFFSETFROM:+0200
TZOFFSETTO:+0100
TZNAME:CET
DTSTART:20261025T010000
END:STANDARD
END:VTIMEZONE
BEGIN:VEVENT
DTSTART;TZID=Europe/Paris:20260407T203000
DTEND;TZID=Europe/Paris:20260407T223000
DTSTAMP:20260420T173702
CREATED:20260401T115624Z
LAST-MODIFIED:20260401T115624Z
UID:4065-1775593800-1775601000@www.clussaislapommeraie79.org
SUMMARY:Réunion du conseil municipal
DESCRIPTION:Le Conseil municipal se réunira pour sa prochaine séance  \nMardi 7 avril 2026 à 20h30 \n
URL:https://www.clussaislapommeraie79.org/evenement/reunion-du-conseil-municipal-19/
LOCATION:Mairie
ATTACH;FMTTYPE=image/jpeg:https://www.clussaislapommeraie79.org/wp-content/uploads/2026/04/scan_2026040113462871.jpg
END:VEVENT
END:VCALENDAR