BEGIN:VCALENDAR
VERSION:2.0
PRODID:-//Clussais la Pommeraie - ECPv5.1.4//NONSGML v1.0//EN
CALSCALE:GREGORIAN
METHOD:PUBLISH
X-WR-CALNAME:Clussais la Pommeraie
X-ORIGINAL-URL:https://www.clussaislapommeraie79.org
X-WR-CALDESC:Évènements pour Clussais la Pommeraie
BEGIN:VTIMEZONE
TZID:Europe/Paris
BEGIN:DAYLIGHT
TZOFFSETFROM:+0100
TZOFFSETTO:+0200
TZNAME:CEST
DTSTART:20230326T010000
END:DAYLIGHT
BEGIN:STANDARD
TZOFFSETFROM:+0200
TZOFFSETTO:+0100
TZNAME:CET
DTSTART:20231029T010000
END:STANDARD
END:VTIMEZONE
BEGIN:VEVENT
DTSTART;TZID=Europe/Paris:20231028T150000
DTEND;TZID=Europe/Paris:20231028T200000
DTSTAMP:20260421T212149
CREATED:20231017T123338Z
LAST-MODIFIED:20231017T123623Z
UID:3231-1698505200-1698523200@www.clussaislapommeraie79.org
SUMMARY:APE MAIRÉ-CLUSSAIS
DESCRIPTION:L’ APE de Mairé- Clussais organise le 28 octobre sa fête d’hALLOWEEN \nsalle des fêtes de Mairé-Levescault \n
URL:https://www.clussaislapommeraie79.org/evenement/ape-maire-clussais/
LOCATION:Mairé-Levescault
ATTACH;FMTTYPE=image/jpeg:https://www.clussaislapommeraie79.org/wp-content/uploads/2023/10/387133209_341033101767690_180786736543374583_n.jpg
END:VEVENT
END:VCALENDAR