BEGIN:VCALENDAR
VERSION:2.0
PRODID:-//Clussais la Pommeraie - ECPv5.1.4//NONSGML v1.0//EN
CALSCALE:GREGORIAN
METHOD:PUBLISH
X-WR-CALNAME:Clussais la Pommeraie
X-ORIGINAL-URL:https://www.clussaislapommeraie79.org
X-WR-CALDESC:Évènements pour Clussais la Pommeraie
BEGIN:VTIMEZONE
TZID:Europe/Paris
BEGIN:DAYLIGHT
TZOFFSETFROM:+0100
TZOFFSETTO:+0200
TZNAME:CEST
DTSTART:20240331T010000
END:DAYLIGHT
BEGIN:STANDARD
TZOFFSETFROM:+0200
TZOFFSETTO:+0100
TZNAME:CET
DTSTART:20241027T010000
END:STANDARD
END:VTIMEZONE
BEGIN:VEVENT
DTSTART;TZID=Europe/Paris:20241109T140000
DTEND;TZID=Europe/Paris:20241109T190000
DTSTAMP:20260421T162418
CREATED:20241021T095333Z
LAST-MODIFIED:20241021T095333Z
UID:3724-1731160800-1731178800@www.clussaislapommeraie79.org
SUMMARY:Concours de belote
DESCRIPTION:\nCONCOURS DE BELOTE \n\n– – – – – – – \n\nOrganisé par la SIP- LE REVEIL \nSalle des fêtes de Clussais La Pommeraie \nsamedi 9 novembre à partir de 14h (ouverture des portes à 13h) \n\n
URL:https://www.clussaislapommeraie79.org/evenement/concours-de-belote-2/
LOCATION:Salle des fêtes
ATTACH;FMTTYPE=image/jpeg:https://www.clussaislapommeraie79.org/wp-content/uploads/2024/10/Affiche-concours-de-belote.jpg
END:VEVENT
END:VCALENDAR