BEGIN:VCALENDAR
VERSION:2.0
PRODID:-//Clussais la Pommeraie - ECPv5.1.4//NONSGML v1.0//EN
CALSCALE:GREGORIAN
METHOD:PUBLISH
X-WR-CALNAME:Clussais la Pommeraie
X-ORIGINAL-URL:https://www.clussaislapommeraie79.org
X-WR-CALDESC:Évènements pour Clussais la Pommeraie
BEGIN:VTIMEZONE
TZID:Europe/Paris
BEGIN:DAYLIGHT
TZOFFSETFROM:+0100
TZOFFSETTO:+0200
TZNAME:CEST
DTSTART:20250330T010000
END:DAYLIGHT
BEGIN:STANDARD
TZOFFSETFROM:+0200
TZOFFSETTO:+0100
TZNAME:CET
DTSTART:20251026T010000
END:STANDARD
END:VTIMEZONE
BEGIN:VEVENT
DTSTART;TZID=Europe/Paris:20250308T140000
DTEND;TZID=Europe/Paris:20250308T190000
DTSTAMP:20260421T162424
CREATED:20250218T092917Z
LAST-MODIFIED:20250218T092917Z
UID:3770-1741442400-1741460400@www.clussaislapommeraie79.org
SUMMARY:Concours de belote
DESCRIPTION:\nCONCOURS DE BELOTE \n\n– – – – – – – \n\nOrganisé par la SIP- LE REVEIL \nSalle des fêtes de Clussais La Pommeraie \nsamedi 9 novembre à partir de 14h (ouverture des portes à 13h) \n\n
URL:https://www.clussaislapommeraie79.org/evenement/concours-de-belote-3/
LOCATION:Salle des fêtes
ATTACH;FMTTYPE=image/jpeg:https://www.clussaislapommeraie79.org/wp-content/uploads/2025/02/scan.jpg
END:VEVENT
END:VCALENDAR