BEGIN:VCALENDAR
VERSION:2.0
PRODID:-//Clussais la Pommeraie - ECPv5.1.4//NONSGML v1.0//EN
CALSCALE:GREGORIAN
METHOD:PUBLISH
X-WR-CALNAME:Clussais la Pommeraie
X-ORIGINAL-URL:https://www.clussaislapommeraie79.org
X-WR-CALDESC:Évènements pour Clussais la Pommeraie
BEGIN:VTIMEZONE
TZID:Europe/Paris
BEGIN:DAYLIGHT
TZOFFSETFROM:+0100
TZOFFSETTO:+0200
TZNAME:CEST
DTSTART:20240331T010000
END:DAYLIGHT
BEGIN:STANDARD
TZOFFSETFROM:+0200
TZOFFSETTO:+0100
TZNAME:CET
DTSTART:20241027T010000
END:STANDARD
END:VTIMEZONE
BEGIN:VEVENT
DTSTART;TZID=Europe/Paris:20240902T080000
DTEND;TZID=Europe/Paris:20240920T170000
DTSTAMP:20260421T181958
CREATED:20240826T092815Z
LAST-MODIFIED:20240826T092904Z
UID:3690-1725264000-1726851600@www.clussaislapommeraie79.org
SUMMARY:Étude d'inventaire des zones humides et du maillage bocager MISE A DISPOSITION DU PUBLIC
DESCRIPTION:Les premiers résultats de l’inventaire des zones humides et du maillage bocager sont consultables en mairie du 2 septembre au 20 septembre 2024. \n
URL:https://www.clussaislapommeraie79.org/evenement/etude-dinventaire-des-zones-humides-et-du-maillage-bocager-mise-a-disposition-du-public/
LOCATION:Mairie
ATTACH;FMTTYPE=image/jpeg:https://www.clussaislapommeraie79.org/wp-content/uploads/2024/08/scan.jpg
END:VEVENT
END:VCALENDAR