BEGIN:VCALENDAR
VERSION:2.0
PRODID:-//Clussais la Pommeraie - ECPv5.1.4//NONSGML v1.0//EN
CALSCALE:GREGORIAN
METHOD:PUBLISH
X-WR-CALNAME:Clussais la Pommeraie
X-ORIGINAL-URL:https://www.clussaislapommeraie79.org
X-WR-CALDESC:Évènements pour Clussais la Pommeraie
BEGIN:VTIMEZONE
TZID:Europe/Paris
BEGIN:DAYLIGHT
TZOFFSETFROM:+0100
TZOFFSETTO:+0200
TZNAME:CEST
DTSTART:20230326T010000
END:DAYLIGHT
BEGIN:STANDARD
TZOFFSETFROM:+0200
TZOFFSETTO:+0100
TZNAME:CET
DTSTART:20231029T010000
END:STANDARD
END:VTIMEZONE
BEGIN:VEVENT
DTSTART;VALUE=DATE:20231123
DTEND;VALUE=DATE:20231124
DTSTAMP:20260421T230507
CREATED:20231114T131536Z
LAST-MODIFIED:20231114T131536Z
UID:3249-1700697600-1700783999@www.clussaislapommeraie79.org
SUMMARY:Fermeture du secrétariat
DESCRIPTION:Le secrétariat de mairie sera fermé exceptionnellement. \nEn cas d’urgence s’adresser au Maire ou aux Adjoints\, \nou par mail mairie-clussais@wanadoo.fr \n
URL:https://www.clussaislapommeraie79.org/evenement/fermeture-du-secretariat-3/
LOCATION:Mairie
END:VEVENT
END:VCALENDAR