BEGIN:VCALENDAR
VERSION:2.0
PRODID:-//Clussais la Pommeraie - ECPv5.1.4//NONSGML v1.0//EN
CALSCALE:GREGORIAN
METHOD:PUBLISH
X-WR-CALNAME:Clussais la Pommeraie
X-ORIGINAL-URL:https://www.clussaislapommeraie79.org
X-WR-CALDESC:Évènements pour Clussais la Pommeraie
BEGIN:VTIMEZONE
TZID:Europe/Paris
BEGIN:DAYLIGHT
TZOFFSETFROM:+0100
TZOFFSETTO:+0200
TZNAME:CEST
DTSTART:20250330T010000
END:DAYLIGHT
BEGIN:STANDARD
TZOFFSETFROM:+0200
TZOFFSETTO:+0100
TZNAME:CET
DTSTART:20251026T010000
END:STANDARD
END:VTIMEZONE
BEGIN:VEVENT
DTSTART;TZID=Europe/Paris:20250729T080000
DTEND;TZID=Europe/Paris:20250808T170000
DTSTAMP:20260421T132741
CREATED:20250716T114954Z
LAST-MODIFIED:20250716T114954Z
UID:3963-1753776000-1754672400@www.clussaislapommeraie79.org
SUMMARY:Fermeture du secrétariat pour congés
DESCRIPTION:Le secrétariat de mairie sera fermé pour congés du mardi 29 juillet 2025 au \nvendredi 8 août 2025 inclus. \nMerci de votre compréhension \n
URL:https://www.clussaislapommeraie79.org/evenement/fermeture-du-secretariat-pour-conges-4/
LOCATION:Mairie
END:VEVENT
END:VCALENDAR