BEGIN:VCALENDAR
VERSION:2.0
PRODID:-//Clussais la Pommeraie - ECPv5.1.4//NONSGML v1.0//EN
CALSCALE:GREGORIAN
METHOD:PUBLISH
X-WR-CALNAME:Clussais la Pommeraie
X-ORIGINAL-URL:https://www.clussaislapommeraie79.org
X-WR-CALDESC:Évènements pour Clussais la Pommeraie
BEGIN:VTIMEZONE
TZID:Europe/Paris
BEGIN:DAYLIGHT
TZOFFSETFROM:+0100
TZOFFSETTO:+0200
TZNAME:CEST
DTSTART:20250330T010000
END:DAYLIGHT
BEGIN:STANDARD
TZOFFSETFROM:+0200
TZOFFSETTO:+0100
TZNAME:CET
DTSTART:20251026T010000
END:STANDARD
BEGIN:DAYLIGHT
TZOFFSETFROM:+0100
TZOFFSETTO:+0200
TZNAME:CEST
DTSTART:20260329T010000
END:DAYLIGHT
BEGIN:STANDARD
TZOFFSETFROM:+0200
TZOFFSETTO:+0100
TZNAME:CET
DTSTART:20261025T010000
END:STANDARD
END:VTIMEZONE
BEGIN:VEVENT
DTSTART;TZID=Europe/Paris:20251224T080000
DTEND;TZID=Europe/Paris:20260102T170000
DTSTAMP:20260421T112912
CREATED:20251219T153059Z
LAST-MODIFIED:20251219T153059Z
UID:4020-1766563200-1767373200@www.clussaislapommeraie79.org
SUMMARY:Fermeture du secrétariat pour congés
DESCRIPTION:Le secrétariat de mairie sera fermé pour congés du mercredi 24 décembre 2025 au \nvendredi 2 janvier 2026 inclus. \nMerci de votre compréhension \nBonnes fêtes de fin d’année ! \n
URL:https://www.clussaislapommeraie79.org/evenement/fermeture-du-secretariat-pour-conges-6/
END:VEVENT
END:VCALENDAR