BEGIN:VCALENDAR
VERSION:2.0
PRODID:-//Clussais la Pommeraie - ECPv5.1.4//NONSGML v1.0//EN
CALSCALE:GREGORIAN
METHOD:PUBLISH
X-WR-CALNAME:Clussais la Pommeraie
X-ORIGINAL-URL:https://www.clussaislapommeraie79.org
X-WR-CALDESC:Évènements pour Clussais la Pommeraie
BEGIN:VTIMEZONE
TZID:Europe/Paris
BEGIN:DAYLIGHT
TZOFFSETFROM:+0100
TZOFFSETTO:+0200
TZNAME:CEST
DTSTART:20240331T010000
END:DAYLIGHT
BEGIN:STANDARD
TZOFFSETFROM:+0200
TZOFFSETTO:+0100
TZNAME:CET
DTSTART:20241027T010000
END:STANDARD
END:VTIMEZONE
BEGIN:VEVENT
DTSTART;TZID=Europe/Paris:20241025T173000
DTEND;TZID=Europe/Paris:20241026T120000
DTSTAMP:20260421T162617
CREATED:20241021T095032Z
LAST-MODIFIED:20241021T095032Z
UID:3720-1729877400-1729944000@www.clussaislapommeraie79.org
SUMMARY:Permanences publiques d'information Projet éolien de la Perche
DESCRIPTION:Permanences publiques d’information \nProjet éolien de la Perche\, Clussais La Pommeraie \nVendredi 25 octobre 2024 de 17h30 à 19h30 \nSamedi 26 octobre 2024 de 10h à 12h \nSalle des fêtes de Clussais La Pommeraie \n
URL:https://www.clussaislapommeraie79.org/evenement/permanences-publiques-dinformation-projet-eolien-de-la-perche/
LOCATION:Salle des fêtes
ATTACH;FMTTYPE=image/jpeg:https://www.clussaislapommeraie79.org/wp-content/uploads/2024/10/Permanence-publique-WPD.jpg
END:VEVENT
END:VCALENDAR