BEGIN:VCALENDAR
VERSION:2.0
PRODID:-//Clussais la Pommeraie - ECPv5.1.4//NONSGML v1.0//EN
CALSCALE:GREGORIAN
METHOD:PUBLISH
X-WR-CALNAME:Clussais la Pommeraie
X-ORIGINAL-URL:https://www.clussaislapommeraie79.org
X-WR-CALDESC:Évènements pour Clussais la Pommeraie
BEGIN:VTIMEZONE
TZID:Europe/Paris
BEGIN:DAYLIGHT
TZOFFSETFROM:+0100
TZOFFSETTO:+0200
TZNAME:CEST
DTSTART:20240331T010000
END:DAYLIGHT
BEGIN:STANDARD
TZOFFSETFROM:+0200
TZOFFSETTO:+0100
TZNAME:CET
DTSTART:20241027T010000
END:STANDARD
END:VTIMEZONE
BEGIN:VEVENT
DTSTART;TZID=Europe/Paris:20241019T193000
DTEND;TZID=Europe/Paris:20241019T230000
DTSTAMP:20260421T162543
CREATED:20240912T073021Z
LAST-MODIFIED:20240912T073021Z
UID:3698-1729366200-1729378800@www.clussaislapommeraie79.org
SUMMARY:Repas organisé par le GIASC
DESCRIPTION:Le 19 octobre 2024 \nà 19h30 \nChoucroute \nou Jambon à l’os / Gratin dauphinois \n
URL:https://www.clussaislapommeraie79.org/evenement/repas-organise-par-le-giasc-2/
LOCATION:Salle des fêtes
ATTACH;FMTTYPE=image/jpeg:https://www.clussaislapommeraie79.org/wp-content/uploads/2024/09/scan.jpg
END:VEVENT
END:VCALENDAR