BEGIN:VCALENDAR
VERSION:2.0
PRODID:-//Clussais la Pommeraie - ECPv5.1.4//NONSGML v1.0//EN
CALSCALE:GREGORIAN
METHOD:PUBLISH
X-WR-CALNAME:Clussais la Pommeraie
X-ORIGINAL-URL:https://www.clussaislapommeraie79.org
X-WR-CALDESC:Évènements pour Clussais la Pommeraie
BEGIN:VTIMEZONE
TZID:Europe/Paris
BEGIN:DAYLIGHT
TZOFFSETFROM:+0100
TZOFFSETTO:+0200
TZNAME:CEST
DTSTART:20250330T010000
END:DAYLIGHT
BEGIN:STANDARD
TZOFFSETFROM:+0200
TZOFFSETTO:+0100
TZNAME:CET
DTSTART:20251026T010000
END:STANDARD
END:VTIMEZONE
BEGIN:VEVENT
DTSTART;TZID=Europe/Paris:20250128T200000
DTEND;TZID=Europe/Paris:20250128T230000
DTSTAMP:20260421T180807
CREATED:20250122T163019Z
LAST-MODIFIED:20250122T163019Z
UID:3752-1738094400-1738105200@www.clussaislapommeraie79.org
SUMMARY:Réunion du conseil municipal
DESCRIPTION:
URL:https://www.clussaislapommeraie79.org/evenement/reunion-du-conseil-municipal-10/
LOCATION:Mairie
END:VEVENT
END:VCALENDAR