BEGIN:VCALENDAR
VERSION:2.0
PRODID:-//Clussais la Pommeraie - ECPv5.1.4//NONSGML v1.0//EN
CALSCALE:GREGORIAN
METHOD:PUBLISH
X-WR-CALNAME:Clussais la Pommeraie
X-ORIGINAL-URL:https://www.clussaislapommeraie79.org
X-WR-CALDESC:Évènements pour Clussais la Pommeraie
BEGIN:VTIMEZONE
TZID:Europe/Paris
BEGIN:DAYLIGHT
TZOFFSETFROM:+0100
TZOFFSETTO:+0200
TZNAME:CEST
DTSTART:20250330T010000
END:DAYLIGHT
BEGIN:STANDARD
TZOFFSETFROM:+0200
TZOFFSETTO:+0100
TZNAME:CET
DTSTART:20251026T010000
END:STANDARD
END:VTIMEZONE
BEGIN:VEVENT
DTSTART;TZID=Europe/Paris:20250426T200000
DTEND;TZID=Europe/Paris:20250426T200000
DTSTAMP:20260421T145606
CREATED:20250318T141406Z
LAST-MODIFIED:20250318T141406Z
UID:3786-1745697600-1745697600@www.clussaislapommeraie79.org
SUMMARY:Soirée année 80's à aujourd'hui
DESCRIPTION:Samedi 26 avril 2025 à 20h \nOrganisée par l’APE Mairé-Clussais \nRéservation avant le 14 avril 2025 \n
URL:https://www.clussaislapommeraie79.org/evenement/soiree-annee-80s-a-aujourdhui/
LOCATION:Salle des fêtes
ATTACH;FMTTYPE=image/jpeg:https://www.clussaislapommeraie79.org/wp-content/uploads/2025/03/scan_2025031815010596.jpg
END:VEVENT
END:VCALENDAR