BEGIN:VCALENDAR
VERSION:2.0
PRODID:-//Clussais la Pommeraie - ECPv5.1.4//NONSGML v1.0//EN
CALSCALE:GREGORIAN
METHOD:PUBLISH
X-WR-CALNAME:Clussais la Pommeraie
X-ORIGINAL-URL:https://www.clussaislapommeraie79.org
X-WR-CALDESC:Évènements pour Clussais la Pommeraie
BEGIN:VTIMEZONE
TZID:Europe/Paris
BEGIN:DAYLIGHT
TZOFFSETFROM:+0100
TZOFFSETTO:+0200
TZNAME:CEST
DTSTART:20230326T010000
END:DAYLIGHT
BEGIN:STANDARD
TZOFFSETFROM:+0200
TZOFFSETTO:+0100
TZNAME:CET
DTSTART:20231029T010000
END:STANDARD
END:VTIMEZONE
BEGIN:VEVENT
DTSTART;TZID=Europe/Paris:20231216T190000
DTEND;TZID=Europe/Paris:20231216T233000
DTSTAMP:20260421T211852
CREATED:20231017T122848Z
LAST-MODIFIED:20231017T122848Z
UID:3228-1702753200-1702769400@www.clussaislapommeraie79.org
SUMMARY:Soirée PUB
DESCRIPTION:Le club de foot organise sa traditionnelle  » SOIRÉE PUB » \n
URL:https://www.clussaislapommeraie79.org/evenement/soiree-pub/
LOCATION:Salle des fêtes
ATTACH;FMTTYPE=image/jpeg:https://www.clussaislapommeraie79.org/wp-content/uploads/2023/10/383346187_815501710364163_1441682502635467283_n.jpg
END:VEVENT
END:VCALENDAR