BEGIN:VCALENDAR
VERSION:2.0
PRODID:-//Clussais la Pommeraie - ECPv5.1.4//NONSGML v1.0//EN
CALSCALE:GREGORIAN
METHOD:PUBLISH
X-WR-CALNAME:Clussais la Pommeraie
X-ORIGINAL-URL:https://www.clussaislapommeraie79.org
X-WR-CALDESC:Évènements pour Clussais la Pommeraie
BEGIN:VTIMEZONE
TZID:Europe/Paris
BEGIN:DAYLIGHT
TZOFFSETFROM:+0100
TZOFFSETTO:+0200
TZNAME:CEST
DTSTART:20250330T010000
END:DAYLIGHT
BEGIN:STANDARD
TZOFFSETFROM:+0200
TZOFFSETTO:+0100
TZNAME:CET
DTSTART:20251026T010000
END:STANDARD
END:VTIMEZONE
BEGIN:VEVENT
DTSTART;TZID=Europe/Paris:20250508T143000
DTEND;TZID=Europe/Paris:20250508T190000
DTSTAMP:20260421T145129
CREATED:20250318T140744Z
LAST-MODIFIED:20250318T141009Z
UID:3783-1746714600-1746730800@www.clussaislapommeraie79.org
SUMMARY:Thé dansant de la SIP
DESCRIPTION:Thé dansant organisé par la SIP Le Réveil \nJeudi 8 mai 2025 à 14h30 \nanimé par l’orchestre Les Baladins \n  \n
URL:https://www.clussaislapommeraie79.org/evenement/the-dansant-de-la-sip/
LOCATION:Salle des fêtes
ATTACH;FMTTYPE=image/jpeg:https://www.clussaislapommeraie79.org/wp-content/uploads/2025/03/scan.jpg
END:VEVENT
END:VCALENDAR