BEGIN:VCALENDAR
VERSION:2.0
PRODID:-//Clussais la Pommeraie - ECPv5.1.4//NONSGML v1.0//EN
CALSCALE:GREGORIAN
METHOD:PUBLISH
X-WR-CALNAME:Clussais la Pommeraie
X-ORIGINAL-URL:https://www.clussaislapommeraie79.org
X-WR-CALDESC:Évènements pour Clussais la Pommeraie
BEGIN:VTIMEZONE
TZID:Europe/Paris
BEGIN:DAYLIGHT
TZOFFSETFROM:+0100
TZOFFSETTO:+0200
TZNAME:CEST
DTSTART:20240331T010000
END:DAYLIGHT
BEGIN:STANDARD
TZOFFSETFROM:+0200
TZOFFSETTO:+0100
TZNAME:CET
DTSTART:20241027T010000
END:STANDARD
END:VTIMEZONE
BEGIN:VEVENT
DTSTART;TZID=Europe/Paris:20240519T080000
DTEND;TZID=Europe/Paris:20240519T180000
DTSTAMP:20260421T194702
CREATED:20240208T103323Z
LAST-MODIFIED:20240208T103411Z
UID:3453-1716105600-1716141600@www.clussaislapommeraie79.org
SUMMARY:Vide-greniers brocante
DESCRIPTION:Centre-bourg Mairie \n
URL:https://www.clussaislapommeraie79.org/evenement/vide-greniers-brocante/
LOCATION:Mairie
END:VEVENT
END:VCALENDAR